BEGIN:VCALENDAR
VERSION:2.0
PRODID:-//House of Hope - ECPv6.15.20//NONSGML v1.0//EN
CALSCALE:GREGORIAN
METHOD:PUBLISH
X-ORIGINAL-URL:https://houseofhopecr.org
X-WR-CALDESC:Events for House of Hope
REFRESH-INTERVAL;VALUE=DURATION:PT1H
X-Robots-Tag:noindex
X-PUBLISHED-TTL:PT1H
BEGIN:VTIMEZONE
TZID:America/Chicago
BEGIN:DAYLIGHT
TZOFFSETFROM:-0600
TZOFFSETTO:-0500
TZNAME:CDT
DTSTART:20250309T080000
END:DAYLIGHT
BEGIN:STANDARD
TZOFFSETFROM:-0500
TZOFFSETTO:-0600
TZNAME:CST
DTSTART:20251102T070000
END:STANDARD
BEGIN:DAYLIGHT
TZOFFSETFROM:-0600
TZOFFSETTO:-0500
TZNAME:CDT
DTSTART:20260308T080000
END:DAYLIGHT
BEGIN:STANDARD
TZOFFSETFROM:-0500
TZOFFSETTO:-0600
TZNAME:CST
DTSTART:20261101T070000
END:STANDARD
BEGIN:DAYLIGHT
TZOFFSETFROM:-0600
TZOFFSETTO:-0500
TZNAME:CDT
DTSTART:20270314T080000
END:DAYLIGHT
BEGIN:STANDARD
TZOFFSETFROM:-0500
TZOFFSETTO:-0600
TZNAME:CST
DTSTART:20271107T070000
END:STANDARD
END:VTIMEZONE
BEGIN:VEVENT
DTSTART;TZID=America/Chicago:20260226T180000
DTEND;TZID=America/Chicago:20260226T200000
DTSTAMP:20260425T153458
CREATED:20260125T033055Z
LAST-MODIFIED:20260125T041839Z
UID:11641-1772128800-1772136000@houseofhopecr.org
SUMMARY:Armor of God
DESCRIPTION:For our struggle is not against flesh and blood. Still\, against the rulers\, against the powers\, against the world forces of this darkness\, against the spiritual forces of wickedness in the heavenly places. Therefore\, take up the whole armor of God so that you can resist in the evil day\, and having done everything\, to stand firm. (Ephesians 6:12-13) Join us as we embark on this study by Priscilla Shirer\, where we will not only grow in our strength. Discover the power within us through God’s Word to conquer the forces against us. This journey will empower us to deepen our relationship with Jesus and experience firsthand the transformative power of God’s Word.\n\nDAY: Thursdays (8 weeks)\nDATES: February 26 – April 16\nTIME: 6:00 – 8:00 PM\nTUITION: $35\n\nFACILITATOR: Kim Wallace \nREGISTER HERE 
URL:https://houseofhopecr.org/programs-class/armor-of-god/
LOCATION:House of Hope\, 1744 2nd Ave SE\, Cedar Rapids\, Iowa\, 52403\, United States
ATTACH;FMTTYPE=image/jpeg:https://houseofhopecr.org/wp-content/uploads/2026/01/581688208_1262109519293335_5776044702747379917_n.jpg
ORGANIZER;CN="House of Hope":MAILTO:programs@houseofhopecr.org
END:VEVENT
END:VCALENDAR