BEGIN:VCALENDAR
VERSION:2.0
PRODID:-//House of Hope - ECPv6.15.20//NONSGML v1.0//EN
CALSCALE:GREGORIAN
METHOD:PUBLISH
X-WR-CALNAME:House of Hope
X-ORIGINAL-URL:https://houseofhopecr.org
X-WR-CALDESC:Events for House of Hope
REFRESH-INTERVAL;VALUE=DURATION:PT1H
X-Robots-Tag:noindex
X-PUBLISHED-TTL:PT1H
BEGIN:VTIMEZONE
TZID:America/Chicago
BEGIN:DAYLIGHT
TZOFFSETFROM:-0600
TZOFFSETTO:-0500
TZNAME:CDT
DTSTART:20250309T080000
END:DAYLIGHT
BEGIN:STANDARD
TZOFFSETFROM:-0500
TZOFFSETTO:-0600
TZNAME:CST
DTSTART:20251102T070000
END:STANDARD
BEGIN:DAYLIGHT
TZOFFSETFROM:-0600
TZOFFSETTO:-0500
TZNAME:CDT
DTSTART:20260308T080000
END:DAYLIGHT
BEGIN:STANDARD
TZOFFSETFROM:-0500
TZOFFSETTO:-0600
TZNAME:CST
DTSTART:20261101T070000
END:STANDARD
BEGIN:DAYLIGHT
TZOFFSETFROM:-0600
TZOFFSETTO:-0500
TZNAME:CDT
DTSTART:20270314T080000
END:DAYLIGHT
BEGIN:STANDARD
TZOFFSETFROM:-0500
TZOFFSETTO:-0600
TZNAME:CST
DTSTART:20271107T070000
END:STANDARD
END:VTIMEZONE
BEGIN:VEVENT
DTSTART;TZID=America/Chicago:20260511T180000
DTEND;TZID=America/Chicago:20260511T200000
DTSTAMP:20260425T180149
CREATED:20260409T160644Z
LAST-MODIFIED:20260409T160644Z
UID:11789-1778522400-1778529600@houseofhopecr.org
SUMMARY:God Moments: a Testimony Curriculum
DESCRIPTION:God Moments: a Testimony Curriculum is a House of Hope original designed to help you recognize\, process\, and clearly communicate your story through the lens of God’s truth. Through Scripture\, guided reflection\, and practical tools\, you’ll begin to see how God has been moving in your life—and how your story can become a powerful tool for discipleship. \nThroughout this course\, you will:• Identify key moments where God has been present in your story• Expose lies and replace them with truth• Understand your identity in Christ• Recognize transformation and redemption in your journey• Learn how to confidently share your testimony as a witness to others \nThis isn’t about having a “perfect” story—it’s about telling an honest one that points back to Jesus. \nYour story matters. And when you share what He has done\, it becomes a weapon\, a witness\, and an act of worship. Come ready to write\, reflect\, and step into the fullness of what God is doing in your life. \nFacilitator: Dr. Jessie Frerich\, Emily Moser\, Kelli WeberDates: MondaysTime: 6:00 – 8:00pmTuition: $35 \nREGISTER HERE
URL:https://houseofhopecr.org/programs-class/god-moments-a-testimony-curriculum/
ATTACH;FMTTYPE=image/png:https://houseofhopecr.org/wp-content/uploads/2026/04/AntiochStudentWorkbookTestimony-4-x-4-in.png
END:VEVENT
BEGIN:VEVENT
DTSTART;TZID=America/Chicago:20260709T180000
DTEND;TZID=America/Chicago:20260709T200000
DTSTAMP:20260425T180149
CREATED:20260401T182818Z
LAST-MODIFIED:20260407T164501Z
UID:11776-1783620000-1783627200@houseofhopecr.org
SUMMARY:Living Fearless
DESCRIPTION:“Living Fearless” by Jamie Winship is a deeply personal journey that outlines a passion for helping people find their God-given identity to walk in a life of freedom. This book takes you on a journey of truth\, changing your mindset and experiencing an actual life transformation that leads to radical courage in the face of all life throws at you. The personal stories of facilitator and board member Kim Wallace are captivating and encouraging. They bring a deep hunger and thirst for all God wants to do in YOU.\n\n\nFacilitator: Kim Wallace \nDates: Thursdays\, July 9 – August 20 (7 WEEKS) \nTime: 6:00 – 8:00 PM \nTuition: $25 \n\n\nREGISTER HERE
URL:https://houseofhopecr.org/programs-class/living-fearless/
ATTACH;FMTTYPE=image/jpeg:https://houseofhopecr.org/wp-content/uploads/2025/09/livingfearless.jpg
END:VEVENT
END:VCALENDAR